Package: massiR Version: 1.38.0 Command: /Library/Frameworks/R.framework/Resources/bin/R CMD build --keep-empty-dirs --no-resave-data massiR StartedAt: 2024-03-03 17:15:12 -0500 (Sun, 03 Mar 2024) EndedAt: 2024-03-03 17:15:24 -0500 (Sun, 03 Mar 2024) EllapsedTime: 12.3 seconds RetCode: 0 Status: OK PackageFile: massiR_1.38.0.tar.gz PackageFileSize: 1.115 MiB