Package: massiR Version: 1.38.0 Command: /Library/Frameworks/R.framework/Resources/bin/R CMD INSTALL massiR StartedAt: 2024-04-15 15:06:54 -0400 (Mon, 15 Apr 2024) EndedAt: 2024-04-15 15:07:11 -0400 (Mon, 15 Apr 2024) EllapsedTime: 17.0 seconds RetCode: 0 Status: OK