Package: massiR Version: 1.38.0 Command: /home/biocbuild/bbs-3.18-bioc/R/bin/R CMD check --install=check:massiR.install-out.txt --library=/home/biocbuild/bbs-3.18-bioc/R/site-library --timings massiR_1.38.0.tar.gz StartedAt: 2024-04-16 00:28:44 -0400 (Tue, 16 Apr 2024) EndedAt: 2024-04-16 00:29:12 -0400 (Tue, 16 Apr 2024) EllapsedTime: 27.7 seconds RetCode: 0 Status: OK CheckDir: massiR.Rcheck Warnings: 0