Package: massiR Version: 1.38.0 Command: chmod a+r massiR -R && F:\biocbuild\bbs-3.18-bioc\R\bin\R.exe CMD build --keep-empty-dirs --no-resave-data massiR StartedAt: 2024-04-15 19:20:44 -0400 (Mon, 15 Apr 2024) EndedAt: 2024-04-15 19:20:56 -0400 (Mon, 15 Apr 2024) EllapsedTime: 12.0 seconds RetCode: 0 Status: OK PackageFile: massiR_1.38.0.tar.gz PackageFileSize: 1.027 MiB