Package: matchBox Version: 1.44.0 Command: rm -rf matchBox.buildbin-libdir && mkdir matchBox.buildbin-libdir && /Users/biocbuild/BBS/utils/build-universal.sh matchBox_1.44.0.tar.gz /Library/Frameworks/R.framework/Resources/bin/R matchBox.buildbin-libdir StartedAt: 2024-03-04 00:48:53 -0500 (Mon, 04 Mar 2024) EndedAt: 2024-03-04 00:48:59 -0500 (Mon, 04 Mar 2024) EllapsedTime: 5.7 seconds RetCode: 0 Status: OK PackageFile: matchBox_1.44.0.tgz PackageFileSize: 632.2 KiB