Package: matchBox Version: 1.44.0 Command: /Library/Frameworks/R.framework/Resources/bin/R CMD check --install=check:matchBox.install-out.txt --library=/Library/Frameworks/R.framework/Resources/library --no-vignettes --timings matchBox_1.44.0.tar.gz StartedAt: 2024-03-03 21:34:35 -0500 (Sun, 03 Mar 2024) EndedAt: 2024-03-03 21:35:05 -0500 (Sun, 03 Mar 2024) EllapsedTime: 30.7 seconds RetCode: 0 Status: OK CheckDir: matchBox.Rcheck Warnings: 0