Package: matchBox Version: 1.44.0 Command: /Library/Frameworks/R.framework/Resources/bin/R CMD build --keep-empty-dirs --no-resave-data matchBox StartedAt: 2024-04-15 19:45:51 -0400 (Mon, 15 Apr 2024) EndedAt: 2024-04-15 19:46:12 -0400 (Mon, 15 Apr 2024) EllapsedTime: 21.0 seconds RetCode: 0 Status: OK PackageFile: matchBox_1.44.0.tar.gz PackageFileSize: 604.8 KiB