Package: matchBox Version: 1.44.0 Command: /home/biocbuild/bbs-3.18-bioc/R/bin/R CMD build --keep-empty-dirs --no-resave-data matchBox StartedAt: 2024-04-15 17:47:12 -0400 (Mon, 15 Apr 2024) EndedAt: 2024-04-15 17:47:18 -0400 (Mon, 15 Apr 2024) EllapsedTime: 6.0 seconds RetCode: 0 Status: OK PackageFile: matchBox_1.44.0.tar.gz PackageFileSize: 605.8 KiB