Package: matter Version: 2.4.0 Command: /home/biocbuild/R/R-4.3.1/bin/R CMD INSTALL matter StartedAt: 2023-11-01 20:19:05 -0000 (Wed, 01 Nov 2023) EndedAt: 2023-11-01 20:20:07 -0000 (Wed, 01 Nov 2023) EllapsedTime: 62.0 seconds RetCode: 0 Status: OK