Package: mbOmic Version: 1.6.0 Command: /Library/Frameworks/R.framework/Resources/bin/R CMD build --keep-empty-dirs --no-resave-data mbOmic StartedAt: 2024-03-03 17:16:00 -0500 (Sun, 03 Mar 2024) EndedAt: 2024-03-03 17:16:53 -0500 (Sun, 03 Mar 2024) EllapsedTime: 53.1 seconds RetCode: 0 Status: OK PackageFile: mbOmic_1.6.0.tar.gz PackageFileSize: 462.6 KiB