Package: mbQTL Version: 1.2.0 Maintainer: Mercedeh Movassagh MaintainerEmail: mercedeh.movassagh at yale.edu git_url: https://git.bioconductor.org/packages/mbQTL git_branch: RELEASE_3_18 git_last_commit: c8ee64b git_last_commit_date: 2023-10-24 11:46:40 -0400 (Tue, 24 Oct 2023)