Package: mbQTL Version: 1.2.0 Command: /home/biocbuild/R/R-4.3.1/bin/R CMD build --keep-empty-dirs --no-resave-data mbQTL StartedAt: 2023-11-02 02:59:10 -0000 (Thu, 02 Nov 2023) EndedAt: 2023-11-02 03:00:43 -0000 (Thu, 02 Nov 2023) EllapsedTime: 93.1 seconds RetCode: 0 Status: OK PackageFile: mbQTL_1.2.0.tar.gz PackageFileSize: 1.491 MiB