Package: mbQTL Version: 1.2.0 Command: rm -rf mbQTL.buildbin-libdir && mkdir mbQTL.buildbin-libdir && /Users/biocbuild/BBS/utils/build-universal.sh mbQTL_1.2.0.tar.gz /Library/Frameworks/R.framework/Resources/bin/R mbQTL.buildbin-libdir StartedAt: 2024-03-04 00:49:03 -0500 (Mon, 04 Mar 2024) EndedAt: 2024-03-04 00:49:20 -0500 (Mon, 04 Mar 2024) EllapsedTime: 17.1 seconds RetCode: 0 Status: OK PackageFile: mbQTL_1.2.0.tgz PackageFileSize: 1.542 MiB