Package: mbQTL Version: 1.2.0 Command: rm -rf mbQTL.buildbin-libdir && mkdir mbQTL.buildbin-libdir && /Users/biocbuild/BBS/utils/build-universal.sh mbQTL_1.2.0.tar.gz /Library/Frameworks/R.framework/Resources/bin/R mbQTL.buildbin-libdir StartedAt: 2024-04-16 12:08:42 -0400 (Tue, 16 Apr 2024) EndedAt: 2024-04-16 12:09:14 -0400 (Tue, 16 Apr 2024) EllapsedTime: 31.1 seconds RetCode: 0 Status: OK PackageFile: mbQTL_1.2.0.tgz PackageFileSize: 1.508 MiB