Package: mbQTL Version: 1.2.0 Command: /Library/Frameworks/R.framework/Resources/bin/R CMD build --keep-empty-dirs --no-resave-data mbQTL StartedAt: 2024-04-15 19:48:31 -0400 (Mon, 15 Apr 2024) EndedAt: 2024-04-15 19:50:59 -0400 (Mon, 15 Apr 2024) EllapsedTime: 148.3 seconds RetCode: 0 Status: OK PackageFile: mbQTL_1.2.0.tar.gz PackageFileSize: 1.459 MiB