Package: mbkmeans Version: 1.18.0 Command: /home/biocbuild/R/R-4.3.1/bin/R CMD build --keep-empty-dirs --no-resave-data mbkmeans StartedAt: 2023-11-02 02:56:49 -0000 (Thu, 02 Nov 2023) EndedAt: 2023-11-02 03:36:50 -0000 (Thu, 02 Nov 2023) EllapsedTime: 2400.6 seconds RetCode: None Status: TIMEOUT PackageFile: None PackageFileSize: NA