Package: mbkmeans Version: 1.18.0 Command: /home/biocbuild/R/R-4.3.1/bin/R CMD check --install=check:mbkmeans.install-out.txt --library=/home/biocbuild/R/R-4.3.1/site-library --timings mbkmeans_1.18.0.tar.gz StartedAt: 2023-10-25 12:58:47 -0000 (Wed, 25 Oct 2023) EndedAt: 2023-10-25 13:13:37 -0000 (Wed, 25 Oct 2023) EllapsedTime: 890.4 seconds RetCode: 0 Status: OK CheckDir: mbkmeans.Rcheck Warnings: 0