Package: mbkmeans Version: 1.18.0 Command: /home/biocbuild/R/R-4.3.1/bin/R CMD INSTALL mbkmeans StartedAt: 2023-11-01 20:24:47 -0000 (Wed, 01 Nov 2023) EndedAt: 2023-11-01 20:26:11 -0000 (Wed, 01 Nov 2023) EllapsedTime: 84.4 seconds RetCode: 0 Status: OK