Package: mbkmeans Version: 1.18.0 Command: rm -rf mbkmeans.buildbin-libdir && mkdir mbkmeans.buildbin-libdir && F:\biocbuild\bbs-3.18-bioc\R\bin\R.exe CMD INSTALL --build --library=mbkmeans.buildbin-libdir mbkmeans_1.18.0.tar.gz StartedAt: 2024-04-16 07:14:25 -0400 (Tue, 16 Apr 2024) EndedAt: 2024-04-16 07:15:31 -0400 (Tue, 16 Apr 2024) EllapsedTime: 66.8 seconds RetCode: 0 Status: OK PackageFile: mbkmeans_1.18.0.zip PackageFileSize: 722.3 KiB