Package: meshr Version: 2.8.0 Command: /home/biocbuild/R/R-4.3.1/bin/R CMD build --keep-empty-dirs --no-resave-data meshr StartedAt: 2023-11-02 03:06:35 -0000 (Thu, 02 Nov 2023) EndedAt: 2023-11-02 03:07:08 -0000 (Thu, 02 Nov 2023) EllapsedTime: 33.0 seconds RetCode: 0 Status: OK PackageFile: meshr_2.8.0.tar.gz PackageFileSize: 1.002 MiB