Package: meshr Version: 2.8.0 Command: /home/biocbuild/bbs-3.18-bioc/R/bin/R CMD build --keep-empty-dirs --no-resave-data meshr StartedAt: 2024-04-15 17:49:50 -0400 (Mon, 15 Apr 2024) EndedAt: 2024-04-15 17:50:13 -0400 (Mon, 15 Apr 2024) EllapsedTime: 23.5 seconds RetCode: 0 Status: OK PackageFile: meshr_2.8.0.tar.gz PackageFileSize: 1002 KiB