Package: messina Version: 1.38.0 Command: /Library/Frameworks/R.framework/Resources/bin/R CMD check --install=check:messina.install-out.txt --library=/Library/Frameworks/R.framework/Resources/library --no-vignettes --timings messina_1.38.0.tar.gz StartedAt: 2024-03-03 21:39:24 -0500 (Sun, 03 Mar 2024) EndedAt: 2024-03-03 21:42:20 -0500 (Sun, 03 Mar 2024) EllapsedTime: 175.1 seconds RetCode: 0 Status: OK CheckDir: messina.Rcheck Warnings: 0