Package: messina Version: 1.38.0 Command: /Library/Frameworks/R.framework/Resources/bin/R CMD check --install=check:messina.install-out.txt --library=/Library/Frameworks/R.framework/Resources/library --no-vignettes --timings messina_1.38.0.tar.gz StartedAt: 2024-04-16 05:02:42 -0400 (Tue, 16 Apr 2024) EndedAt: 2024-04-16 05:08:02 -0400 (Tue, 16 Apr 2024) EllapsedTime: 319.9 seconds RetCode: 0 Status: OK CheckDir: messina.Rcheck Warnings: 0