Package: messina Version: 1.38.0 Command: chmod a+r messina -R && F:\biocbuild\bbs-3.18-bioc\R\bin\R.exe CMD build --keep-empty-dirs --no-resave-data messina StartedAt: 2024-04-15 19:25:00 -0400 (Mon, 15 Apr 2024) EndedAt: 2024-04-15 19:26:59 -0400 (Mon, 15 Apr 2024) EllapsedTime: 118.8 seconds RetCode: 0 Status: OK PackageFile: messina_1.38.0.tar.gz PackageFileSize: 297.8 KiB