Package: metaMS Version: 1.38.0 Command: /home/biocbuild/R/R-4.3.1/bin/R CMD INSTALL metaMS StartedAt: 2023-11-01 20:51:57 -0000 (Wed, 01 Nov 2023) EndedAt: 2023-11-01 20:53:00 -0000 (Wed, 01 Nov 2023) EllapsedTime: 63.0 seconds RetCode: 0 Status: OK