Package: metaMS Version: 1.38.0 Command: rm -rf metaMS.buildbin-libdir && mkdir metaMS.buildbin-libdir && /Users/biocbuild/BBS/utils/build-universal.sh metaMS_1.38.0.tar.gz /Library/Frameworks/R.framework/Resources/bin/R metaMS.buildbin-libdir StartedAt: 2024-03-04 00:49:48 -0500 (Mon, 04 Mar 2024) EndedAt: 2024-03-04 00:50:55 -0500 (Mon, 04 Mar 2024) EllapsedTime: 67.6 seconds RetCode: 0 Status: OK PackageFile: metaMS_1.38.0.tgz PackageFileSize: 4.286 MiB