Package: metaMS Version: 1.38.0 Command: rm -rf metaMS.buildbin-libdir && mkdir metaMS.buildbin-libdir && F:\biocbuild\bbs-3.18-bioc\R\bin\R.exe CMD INSTALL --build --library=metaMS.buildbin-libdir metaMS_1.38.0.tar.gz StartedAt: 2024-04-16 07:15:31 -0400 (Tue, 16 Apr 2024) EndedAt: 2024-04-16 07:16:29 -0400 (Tue, 16 Apr 2024) EllapsedTime: 57.5 seconds RetCode: 0 Status: OK PackageFile: metaMS_1.38.0.zip PackageFileSize: 4.027 MiB