Package: metaSeq Version: 1.42.0 Command: rm -rf metaSeq.buildbin-libdir && mkdir metaSeq.buildbin-libdir && /Users/biocbuild/BBS/utils/build-universal.sh metaSeq_1.42.0.tar.gz /Library/Frameworks/R.framework/Resources/bin/R metaSeq.buildbin-libdir StartedAt: 2024-03-04 00:49:53 -0500 (Mon, 04 Mar 2024) EndedAt: 2024-03-04 00:50:06 -0500 (Mon, 04 Mar 2024) EllapsedTime: 12.5 seconds RetCode: 0 Status: OK PackageFile: metaSeq_1.42.0.tgz PackageFileSize: 6.178 MiB