Package: metapod Version: 1.10.0 Command: /home/biocbuild/R/R-4.3.1/bin/R CMD build --keep-empty-dirs --no-resave-data metapod StartedAt: 2023-11-02 03:10:13 -0000 (Thu, 02 Nov 2023) EndedAt: 2023-11-02 03:11:01 -0000 (Thu, 02 Nov 2023) EllapsedTime: 48.1 seconds RetCode: 0 Status: OK PackageFile: metapod_1.10.0.tar.gz PackageFileSize: 390.5 KiB