Package: metapod Version: 1.10.1 Command: /Library/Frameworks/R.framework/Resources/bin/R CMD build --keep-empty-dirs --no-resave-data metapod StartedAt: 2024-03-03 17:18:40 -0500 (Sun, 03 Mar 2024) EndedAt: 2024-03-03 17:19:12 -0500 (Sun, 03 Mar 2024) EllapsedTime: 32.8 seconds RetCode: 0 Status: OK PackageFile: metapod_1.10.1.tar.gz PackageFileSize: 323.5 KiB