Package: metapod Version: 1.10.1 Command: /home/biocbuild/bbs-3.18-bioc/R/bin/R CMD check --install=check:metapod.install-out.txt --library=/home/biocbuild/bbs-3.18-bioc/R/site-library --timings metapod_1.10.1.tar.gz StartedAt: 2024-04-16 00:40:18 -0400 (Tue, 16 Apr 2024) EndedAt: 2024-04-16 00:40:46 -0400 (Tue, 16 Apr 2024) EllapsedTime: 27.4 seconds RetCode: 0 Status: OK CheckDir: metapod.Rcheck Warnings: 0