Package: metapod Version: 1.10.1 Command: F:\biocbuild\bbs-3.18-bioc\R\bin\R.exe CMD check --no-multiarch --install=check:metapod.install-out.txt --library=F:\biocbuild\bbs-3.18-bioc\R\library --no-vignettes --timings metapod_1.10.1.tar.gz StartedAt: 2024-04-16 02:27:33 -0400 (Tue, 16 Apr 2024) EndedAt: 2024-04-16 02:28:34 -0400 (Tue, 16 Apr 2024) EllapsedTime: 60.6 seconds RetCode: 0 Status: OK CheckDir: metapod.Rcheck Warnings: 0