Package: metapone Version: 1.8.0 Command: /Library/Frameworks/R.framework/Resources/bin/R CMD build --keep-empty-dirs --no-resave-data metapone StartedAt: 2024-04-15 19:53:00 -0400 (Mon, 15 Apr 2024) EndedAt: 2024-04-15 20:17:37 -0400 (Mon, 15 Apr 2024) EllapsedTime: 1477.1 seconds RetCode: 0 Status: OK PackageFile: metapone_1.8.0.tar.gz PackageFileSize: 3.742 MiB