Package: metapone Version: 1.8.0 Command: /Library/Frameworks/R.framework/Resources/bin/R CMD check --install=check:metapone.install-out.txt --library=/Library/Frameworks/R.framework/Resources/library --no-vignettes --timings metapone_1.8.0.tar.gz StartedAt: 2024-04-16 05:06:08 -0400 (Tue, 16 Apr 2024) EndedAt: 2024-04-16 05:13:11 -0400 (Tue, 16 Apr 2024) EllapsedTime: 422.8 seconds RetCode: 0 Status: OK CheckDir: metapone.Rcheck Warnings: 0