Package: methylGSA Version: 1.20.0 Maintainer: Xu Ren MaintainerEmail: xuren2120 at gmail.com git_url: https://git.bioconductor.org/packages/methylGSA git_branch: RELEASE_3_18 git_last_commit: 8cb9bb1 git_last_commit_date: 2023-10-24 11:06:29 -0400 (Tue, 24 Oct 2023)