Package: methylGSA Version: 1.20.0 Command: /home/biocbuild/R/R-4.3.1/bin/R CMD build --keep-empty-dirs --no-resave-data methylGSA StartedAt: 2023-11-02 03:20:59 -0000 (Thu, 02 Nov 2023) EndedAt: 2023-11-02 03:23:58 -0000 (Thu, 02 Nov 2023) EllapsedTime: 179.2 seconds RetCode: 0 Status: OK PackageFile: methylGSA_1.20.0.tar.gz PackageFileSize: 3.159 MiB