Package: methylGSA Version: 1.20.0 Command: /Library/Frameworks/R.framework/Resources/bin/R CMD INSTALL methylGSA StartedAt: 2024-03-03 15:48:04 -0500 (Sun, 03 Mar 2024) EndedAt: 2024-03-03 15:48:45 -0500 (Sun, 03 Mar 2024) EllapsedTime: 40.9 seconds RetCode: 0 Status: OK