Package: methylKit Version: 1.28.0 Command: /home/biocbuild/R/R-4.3.1/bin/R CMD build --keep-empty-dirs --no-resave-data methylKit StartedAt: 2023-11-02 03:22:34 -0000 (Thu, 02 Nov 2023) EndedAt: 2023-11-02 03:24:26 -0000 (Thu, 02 Nov 2023) EllapsedTime: 112.1 seconds RetCode: 0 Status: OK PackageFile: methylKit_1.28.0.tar.gz PackageFileSize: 1.36 MiB