Package: methylKit Version: 1.28.0 Command: /home/biocbuild/R/R-4.3.1/bin/R CMD check --install=check:methylKit.install-out.txt --library=/home/biocbuild/R/R-4.3.1/site-library --no-vignettes --timings methylKit_1.28.0.tar.gz StartedAt: 2023-11-02 12:02:41 -0000 (Thu, 02 Nov 2023) EndedAt: 2023-11-02 12:10:52 -0000 (Thu, 02 Nov 2023) EllapsedTime: 490.9 seconds RetCode: 1 Status: ERROR CheckDir: methylKit.Rcheck Warnings: NA