Package: methylKit Version: 1.28.0 Command: /home/biocbuild/R/R-4.3.1/bin/R CMD INSTALL methylKit StartedAt: 2023-11-01 20:21:32 -0000 (Wed, 01 Nov 2023) EndedAt: 2023-11-01 20:23:02 -0000 (Wed, 01 Nov 2023) EllapsedTime: 90.1 seconds RetCode: 0 Status: OK