Package: methylKit Version: 1.28.0 Command: /home/biocbuild/bbs-3.18-bioc/R/bin/R CMD build --keep-empty-dirs --no-resave-data methylKit StartedAt: 2024-04-15 17:53:49 -0400 (Mon, 15 Apr 2024) EndedAt: 2024-04-15 17:55:11 -0400 (Mon, 15 Apr 2024) EllapsedTime: 81.8 seconds RetCode: 0 Status: OK PackageFile: methylKit_1.28.0.tar.gz PackageFileSize: 1.283 MiB