Package: methylKit Version: 1.28.0 Command: chmod a+r methylKit -R && F:\biocbuild\bbs-3.18-bioc\R\bin\R.exe CMD build --keep-empty-dirs --no-resave-data methylKit StartedAt: 2024-04-15 19:28:59 -0400 (Mon, 15 Apr 2024) EndedAt: 2024-04-15 19:31:03 -0400 (Mon, 15 Apr 2024) EllapsedTime: 124.3 seconds RetCode: 0 Status: OK PackageFile: methylKit_1.28.0.tar.gz PackageFileSize: 1.13 MiB