Package: methylSig Version: 1.14.0 Maintainer: Raymond G. Cavalcante MaintainerEmail: rcavalca at umich.edu git_url: https://git.bioconductor.org/packages/methylSig git_branch: RELEASE_3_18 git_last_commit: 341d23b git_last_commit_date: 2023-10-24 11:21:41 -0400 (Tue, 24 Oct 2023)