Package: methylSig Version: 1.14.0 Command: /home/biocbuild/R/R-4.3.1/bin/R CMD INSTALL methylSig StartedAt: 2023-11-01 20:28:17 -0000 (Wed, 01 Nov 2023) EndedAt: 2023-11-01 20:29:26 -0000 (Wed, 01 Nov 2023) EllapsedTime: 69.6 seconds RetCode: 0 Status: OK