Package: mgsa Version: 1.50.0 Command: rm -rf mgsa.buildbin-libdir && mkdir mgsa.buildbin-libdir && /Users/biocbuild/BBS/utils/build-universal.sh mgsa_1.50.0.tar.gz /Library/Frameworks/R.framework/Resources/bin/R mgsa.buildbin-libdir StartedAt: 2024-04-16 12:12:12 -0400 (Tue, 16 Apr 2024) EndedAt: 2024-04-16 12:12:27 -0400 (Tue, 16 Apr 2024) EllapsedTime: 14.9 seconds RetCode: 0 Status: OK PackageFile: mgsa_1.50.0.tgz PackageFileSize: 538.9 KiB