Package: miQC Version: 1.10.0 Command: chmod a+r miQC -R && F:\biocbuild\bbs-3.18-bioc\R\bin\R.exe CMD build --keep-empty-dirs --no-resave-data miQC StartedAt: 2024-04-15 19:34:03 -0400 (Mon, 15 Apr 2024) EndedAt: 2024-04-15 19:35:53 -0400 (Mon, 15 Apr 2024) EllapsedTime: 109.7 seconds RetCode: 0 Status: OK PackageFile: miQC_1.10.0.tar.gz PackageFileSize: 971.8 KiB