Package: miRBaseConverter Version: 1.26.0 Command: /Library/Frameworks/R.framework/Resources/bin/R CMD check --install=check:miRBaseConverter.install-out.txt --library=/Library/Frameworks/R.framework/Resources/library --no-vignettes --timings miRBaseConverter_1.26.0.tar.gz StartedAt: 2024-04-16 05:25:57 -0400 (Tue, 16 Apr 2024) EndedAt: 2024-04-16 05:27:23 -0400 (Tue, 16 Apr 2024) EllapsedTime: 85.8 seconds RetCode: 0 Status: OK CheckDir: miRBaseConverter.Rcheck Warnings: 0