Package: miRLAB Version: 1.32.0 Command: /Library/Frameworks/R.framework/Resources/bin/R CMD build --keep-empty-dirs --no-resave-data miRLAB StartedAt: 2024-03-03 17:23:56 -0500 (Sun, 03 Mar 2024) EndedAt: 2024-03-03 17:24:40 -0500 (Sun, 03 Mar 2024) EllapsedTime: 44.0 seconds RetCode: 0 Status: OK PackageFile: miRLAB_1.32.0.tar.gz PackageFileSize: 192.2 KiB