Package: miRLAB Version: 1.32.0 Command: /Library/Frameworks/R.framework/Resources/bin/R CMD check --install=check:miRLAB.install-out.txt --library=/Library/Frameworks/R.framework/Resources/library --no-vignettes --timings miRLAB_1.32.0.tar.gz StartedAt: 2024-03-03 21:51:11 -0500 (Sun, 03 Mar 2024) EndedAt: 2024-03-03 21:55:56 -0500 (Sun, 03 Mar 2024) EllapsedTime: 285.1 seconds RetCode: 0 Status: WARNINGS CheckDir: miRLAB.Rcheck Warnings: 1