Package: miRLAB Version: 1.32.0 Command: /Library/Frameworks/R.framework/Resources/bin/R CMD INSTALL miRLAB StartedAt: 2024-03-03 15:33:16 -0500 (Sun, 03 Mar 2024) EndedAt: 2024-03-03 15:34:06 -0500 (Sun, 03 Mar 2024) EllapsedTime: 49.8 seconds RetCode: 0 Status: OK